BEGIN:VCALENDAR
VERSION:2.0
PRODID:-//ARMI - ECPv6.15.18//NONSGML v1.0//EN
CALSCALE:GREGORIAN
METHOD:PUBLISH
X-ORIGINAL-URL:https://www.armiusa.org
X-WR-CALDESC:Events for ARMI
REFRESH-INTERVAL;VALUE=DURATION:PT1H
X-Robots-Tag:noindex
X-PUBLISHED-TTL:PT1H
BEGIN:VTIMEZONE
TZID:America/New_York
BEGIN:DAYLIGHT
TZOFFSETFROM:-0500
TZOFFSETTO:-0400
TZNAME:EDT
DTSTART:20250309T070000
END:DAYLIGHT
BEGIN:STANDARD
TZOFFSETFROM:-0400
TZOFFSETTO:-0500
TZNAME:EST
DTSTART:20251102T060000
END:STANDARD
BEGIN:DAYLIGHT
TZOFFSETFROM:-0500
TZOFFSETTO:-0400
TZNAME:EDT
DTSTART:20260308T070000
END:DAYLIGHT
BEGIN:STANDARD
TZOFFSETFROM:-0400
TZOFFSETTO:-0500
TZNAME:EST
DTSTART:20261101T060000
END:STANDARD
BEGIN:DAYLIGHT
TZOFFSETFROM:-0500
TZOFFSETTO:-0400
TZNAME:EDT
DTSTART:20270314T070000
END:DAYLIGHT
BEGIN:STANDARD
TZOFFSETFROM:-0400
TZOFFSETTO:-0500
TZNAME:EST
DTSTART:20271107T060000
END:STANDARD
END:VTIMEZONE
BEGIN:VEVENT
DTSTART;TZID=America/New_York:20260727T090000
DTEND;TZID=America/New_York:20260731T150000
DTSTAMP:20260422T181840
CREATED:20260203T183002Z
LAST-MODIFIED:20260203T183225Z
UID:10001793-1785142800-1785510000@www.armiusa.org
SUMMARY:BioTrekker Camp at SEE Science Center (Ages 11–14)
DESCRIPTION:Registration is now open for BioTrekker Camp\, a week-long\, hands-on science camp hosted at the SEE Science Center and led by educators from Advanced Regenerative Manufacturing Institute (ARMI) | BioFabUSA. \nDesigned for students ages 11–14\, BioTrekker Camp introduces participants to the science and technology behind curing disease through immersive\, project-based learning. Campers explore real-world medical challenges using tools and concepts from regenerative medicine and biotechnology. \nThroughout the week\, students will: \n\nExamine cells under microscopes\nExtract DNA\nWork in small teams on problem-solving challenges\nParticipate in team-building activities\nMeet guest scientists working in the field\nDesign their own tissue-engineered medical products\n\nThese activities introduce campers to emerging biotechnology and biomanufacturing careers in Manchester’s ReGen Valley and beyond. \nThe camp takes place at the SEE Science Center and follows all State of New Hampshire camp operation guidelines. \nEvent Details \nDates: July 27–31\, 2026Time: 9:00 AM – 3:30 PM dailyLocation: SEE Science Center\, Manchester\, NHAges: 11–14Capacity: Limited to 15 participantsFormat: One-week day camp \nCampers are divided into age-appropriate groups. \nCost Information\n\nCamp fee: $325\nSEE members save $15\n$50 sibling or second-camp discount (not combinable)\nEBT/SNAP option: $50 total (use code EBTCP at checkout; card required at check-in)\n$50 of each registration is non-refundable\nOptional aftercare available: $50 per week
URL:https://www.armiusa.org/event/biotrekker-camp-at-see-science-center-ages-11-14/
LOCATION:SEE Science Center\, 200 Bedford Street\, Manchester\, NH\, United States
CATEGORIES:ARMI,Education and Workforce Development
ATTACH;FMTTYPE=image/png:https://www.armiusa.org/wp-content/uploads/2022/05/PartnerLive-e1653358779467.png
END:VEVENT
END:VCALENDAR